BEGIN:VCALENDAR
VERSION:2.0
PRODID:demarts.pantheonsorbonne.fr
X-WR-TIMEZONE:Europe/Paris
BEGIN:VTIMEZONE
TZID:Europe/Paris
X-LIC-LOCATION:Europe/Paris
BEGIN:DAYLIGHT
TZNAME:CEST
TZOFFSETFROM:+0100
TZOFFSETTO:+0200
DTSTART:20250330T010000
END:DAYLIGHT
BEGIN:DAYLIGHT
TZNAME:CEST
TZOFFSETFROM:+0100
TZOFFSETTO:+0200
DTSTART:20260329T010000
END:DAYLIGHT
BEGIN:STANDARD
TZNAME:CET
TZOFFSETFROM:+0200
TZOFFSETTO:+0100
DTSTART:20251026T010000
END:STANDARD
BEGIN:STANDARD
TZNAME:CET
TZOFFSETFROM:+0200
TZOFFSETTO:+0100
DTSTART:20261025T010000
END:STANDARD
END:VTIMEZONE
BEGIN:VEVENT
UID:ee4bae40e6df04f4011e7aecead7627c
DTSTART;TZID=Europe/Paris:20260323T080000
SEQUENCE:0
TRANSP:OPAQUE
URL:https://demarts.pantheonsorbonne.fr/evenements
SUMMARY:Exposition Pierre Mariétan - Démocratie Sonore*
CLASS:PUBLIC
DESCRIPTION:47\, Rue des Bergers\, 75015 Paris
X-ALT-DESC;FMTTYPE=text/html:47\, Rue des Bergers\, 75015 Paris\n\n
DTSTAMP:20260408T084551Z
END:VEVENT
END:VCALENDAR